BEGIN:VCALENDAR
VERSION:2.0
PRODID:-//wp-events-plugin.com//7.2.3.1//EN
TZID:Europe/London
X-WR-TIMEZONE:Europe/London
BEGIN:VEVENT
UID:7@methodisthistoryireland.org
DTSTART:20140614T190000Z
DTEND:20140614T190000Z
DTSTAMP:20140418T081027Z
URL:https://methodisthistoryireland.org/events/society-annual-general-meet
 ing/
SUMMARY:Society Annual General Meeting 
DESCRIPTION:Members are invited to the MHSI Annual General Meeting on Satur
 day 14 June at Methodist Centenary Church\, Wesley House\, Leeson Park\, D
 ublin 6 at 7.00 pm.
ATTACH;FMTTYPE=image/jpeg:https://methodisthistoryireland.org/wp-content/u
 ploads/2014/04/Wesley-House-Leeson-Park-Dublin.png
LOCATION:Methodist Centenary Church\, Leeson Park\, Dublin\,  Dublin 6\, Ir
 eland
GEO:53.3266949;-6.251188700000057
X-APPLE-STRUCTURED-LOCATION;VALUE=URI;X-ADDRESS=Leeson Park\, Dublin\,  Dub
 lin 6\, Ireland;X-APPLE-RADIUS=100;X-TITLE=Methodist Centenary Church:geo:
 53.3266949,-6.251188700000057
END:VEVENT
END:VCALENDAR