BEGIN:VCALENDAR
VERSION:2.0
PRODID:-//wp-events-plugin.com//7.2.3.1//EN
TZID:Europe/London
X-WR-TIMEZONE:Europe/London
BEGIN:VEVENT
UID:13@methodisthistoryireland.org
DTSTART:20150523T100000Z
DTEND:20150523T153000Z
DTSTAMP:20150310T210244Z
URL:https://methodisthistoryireland.org/events/mhsi-pilgrimage-to-donegal-
 inver-and-ballintra-methodist-churches-2/
SUMMARY:MHSI Pilgrimage to Donegal\, Inver and Ballintra Methodist Churches
DESCRIPTION:[caption id="attachment_1175" align="alignleft" width="300"] Do
 negal Methodist Church[/caption]\n\nThis year's pilgrimage is visiting the
  historic Donegal\, Inver and Ballintra Methodist churches. Booking and de
 tails from the MHSI Secretary: Jennifer Stutt\, email: jenniferstutt@gmail
 .com
ATTACH;FMTTYPE=image/jpeg:https://methodisthistoryireland.org/wp-content/u
 ploads/2015/02/3263555534_5eb0745b64_z.jpg
LOCATION:Donegal Methodist Chuch\, Donegal Methodist Church\, Donegal\, Ire
 land
GEO:54.6552061;-8.112039699999968
X-APPLE-STRUCTURED-LOCATION;VALUE=URI;X-ADDRESS=Donegal Methodist Church\, 
 Donegal\, Ireland;X-APPLE-RADIUS=100;X-TITLE=Donegal Methodist Chuch:geo:5
 4.6552061,-8.112039699999968
END:VEVENT
END:VCALENDAR