BEGIN:VCALENDAR
VERSION:2.0
PRODID:-//wp-events-plugin.com//7.2.3.1//EN
TZID:Europe/London
X-WR-TIMEZONE:Europe/London
BEGIN:VEVENT
UID:19@methodisthistoryireland.org
DTSTART:20191018T193000Z
DTEND:20191018T210000Z
DTSTAMP:20190618T103858Z
URL:https://methodisthistoryireland.org/events/methodist-historical-societ
 y-of-ireland-annual-lecture-2/
SUMMARY:Methodist Historical Society of Ireland - Annual Lecture
DESCRIPTION:\nLecturer: Dr Marie Coleman\,\nReader in Irish History at Quee
 n's University Belfast.\nSubject: Demographic change in Longford’s Metho
 dist population\, 1869-1926\nThe decline by one-third of the non-Roman Cat
 holic population of the twenty-six southern Irish counties recorded betwee
 n the last pre-independence census of population in 1911 and the first con
 ducted in the Free State in 1926 constitutes one of the most significant d
 emographic changes in modern Irish history. Historians have debated the re
 asons for this and have largely arrived at a consensus that ‘most of the
  net population loss … may be explained by … factors such as the depar
 ture of the British-born military personnel\, “normal” or “economic
 ” migration\, low or negative natural increase\, and a top-heavy age-str
 ucture’. Nevertheless\, debate remains as to which of these factors was 
 the more significant\, with some favouring the explanation of voluntary mi
 gration and others focusing on the loss of numbers through declining birth
  and marriage rates. All agree that the context of revolutionary violence\
 , in particular between the years 1920 to 1923\, was a contributory factor
  but that there is little evidence to sustain emotive claims of depopulati
 on having been caused by a systematic campaign of ethnic cleansing by repu
 blicans.\n\nDr Marie Coleman is a Reader in Irish History at Queen's Unive
 rsity Belfast. She is the author of County Longford and the Irish Revoluti
 on\, 1910-1923\, The Irish Sweep: A history of the Irish Hospitals Sweepst
 ake\, 1930-1987 and The Irish Revolution\, 1916-1923\, and also serves as 
 joint editor of the journal\, Irish Historical Studies.\n\n&nbsp\;\n\n&nbs
 p\;
ATTACH;FMTTYPE=image/jpeg:https://methodisthistoryireland.org/wp-content/u
 ploads/2019/05/MC-Photo-002.jpg
LOCATION:Belfast South Methodist Church and Agape Centre\, 236-266 Lisburn 
 Road\, Belfast\, BT9 6GF\, UK\, 236-266 Lisburn Road\, Belfast\, Antrim\, 
 BT9 6GF\, United Kingdom
X-APPLE-STRUCTURED-LOCATION;VALUE=URI;X-ADDRESS=236-266 Lisburn Road\, Belf
 ast\, Antrim\, BT9 6GF\, United Kingdom;X-APPLE-RADIUS=100;X-TITLE=Belfast
  South Methodist Church and Agape Centre\, 236-266 Lisburn Road\, Belfast\
 , BT9 6GF\, UK:geo:0,0
END:VEVENT
END:VCALENDAR