BEGIN:VCALENDAR
VERSION:2.0
PRODID:-//wp-events-plugin.com//7.2.3.1//EN
TZID:Europe/London
X-WR-TIMEZONE:Europe/London
BEGIN:VEVENT
UID:1@methodisthistoryireland.org
DTSTART:20130831T133000Z
DTEND:20130831T150000Z
DTSTAMP:20130829T190900Z
URL:https://methodisthistoryireland.org/events/event-example-one/
SUMMARY:Event Example One
DESCRIPTION:Event details
ATTACH;FMTTYPE=image/jpeg:https://methodisthistoryireland.org/wp-content/u
 ploads/2013/08/bandon.png
LOCATION:City Hall\, Belfast\, Cromac Square\, Belfast\, BT2 8LA\, United K
 ingdom
GEO:54.5942129;-5.924505899999986
X-APPLE-STRUCTURED-LOCATION;VALUE=URI;X-ADDRESS=Cromac Square\, Belfast\, B
 T2 8LA\, United Kingdom;X-APPLE-RADIUS=100;X-TITLE=City Hall\, Belfast:geo
 :54.5942129,-5.924505899999986
END:VEVENT
END:VCALENDAR