BEGIN:VCALENDAR
VERSION:2.0
PRODID:-//wp-events-plugin.com//7.2.3.1//EN
TZID:Europe/London
X-WR-TIMEZONE:Europe/London
BEGIN:VEVENT
UID:18@methodisthistoryireland.org
DTSTART:20181019T193000Z
DTEND:20181019T210000Z
DTSTAMP:20161114T193543Z
URL:https://methodisthistoryireland.org/events/annual-lecture-2018-the-sig
 nificance-of-cliff-college-for-irish-methodisms-mission-rev-kenneth-todd/
SUMMARY:Annual Lecture 2018 - 'The Significance of Cliff College for Irish 
 Methodism's Mission' - Rev. Kenneth Todd
DESCRIPTION:[caption id="attachment_1450" align="alignleft" width="300"] Cl
 iff College 'Joyful News' students on trek in the 1930s.[/caption]\n\nFor 
 more than 100 years Irish lay and prospective ministerial students have tr
 avelled to Cliff College\, Derbyshire\, for initial formation as Christian
  workers and evangelists. Many of the 250 plus who made the journey later 
 entered the Irish Methodist ministry and brought with them the ethos of Cl
 iff College and its founder\, Thomas Champness. This lecture explores the 
 historical and continuing significance of Cliff College for the Methodist 
 Church in Ireland.\n\nThe Rev. Ken Todd\, a former President of the Method
 ist Church in Ireland served for 12 years with the Methodist Church\, Sier
 ra Leone\, before returning to service in Ireland. He has written several 
 articles on the history of Methodism in Sierra Leone and co-authored a bio
 graphy of the late Rev. S. Leslie Wallace\, MBE\, sometime President of th
 e Methodist Church in Sierra Leone.\n\n&nbsp\;\n\n&nbsp\;
ATTACH;FMTTYPE=image/jpeg:https://methodisthistoryireland.org/wp-content/u
 ploads/2016/11/Students_on_Cycle_Trek-Cliff-College.jpg
CATEGORIES:Public Lecture
LOCATION:Edgehill College\, 9 Lennoxvale\, Belfast\, BT9 5BY\, United Kingd
 om
GEO:54.5777783;-5.937183799999957
X-APPLE-STRUCTURED-LOCATION;VALUE=URI;X-ADDRESS=9 Lennoxvale\, Belfast\, BT
 9 5BY\, United Kingdom;X-APPLE-RADIUS=100;X-TITLE=Edgehill College:geo:54.
 5777783,-5.937183799999957
END:VEVENT
END:VCALENDAR