BEGIN:VCALENDAR
VERSION:2.0
PRODID:-//wp-events-plugin.com//7.2.3.1//EN
TZID:Europe/London
X-WR-TIMEZONE:Europe/London
BEGIN:VEVENT
UID:10@methodisthistoryireland.org
DTSTART:20150613T193000Z
DTEND:20150613T203000Z
DTSTAMP:20150310T210204Z
URL:https://methodisthistoryireland.org/events/annual-general-meeting/
SUMMARY:MHSI Annual General Meeting
DESCRIPTION:
ATTACH;FMTTYPE=image/jpeg:https://methodisthistoryireland.org/wp-content/u
 ploads/2015/02/skainossquare1.jpg
LOCATION:Skainos Centre\, East Belfast Mission\, 239 Newtownards Road\, Bel
 fast\, Co. Down\, BT4 1AF\, United Kingdom
GEO:54.5988043;-5.901091299999962
X-APPLE-STRUCTURED-LOCATION;VALUE=URI;X-ADDRESS=239 Newtownards Road\, Belf
 ast\, Co. Down\, BT4 1AF\, United Kingdom;X-APPLE-RADIUS=100;X-TITLE=Skain
 os Centre\, East Belfast Mission:geo:54.5988043,-5.901091299999962
END:VEVENT
END:VCALENDAR