BEGIN:VCALENDAR
VERSION:2.0
PRODID:-//wp-events-plugin.com//7.2.3.1//EN
TZID:Europe/London
X-WR-TIMEZONE:Europe/London
BEGIN:VEVENT
UID:26@methodisthistoryireland.org
DTSTART:20220618T140000Z
DTEND:20220618T150000Z
DTSTAMP:20220429T144010Z
URL:https://methodisthistoryireland.org/events/all-my-world-a-parish-metho
 dism-on-stamps/
SUMMARY:MHSI Conference Lecture
DESCRIPTION:\n\n&nbsp\;\n\nThis presentation will look at stamps issued by 
 post offices across the world to celebrate Methodism and its history. It w
 ill also look at envelopes and postmarks created by philatelists to mark s
 ignificant events or people in Methodist history. Where countries have bee
 n less than generous in philatelic recognition\, the presentation will tou
 ch on significant Methodists who have featured on stamps. The presentation
  will begin with these islands\, where Guernsey\, Isle of Man and Republic
  of Ireland have celebrated Methodist history very well philatelically\, w
 hile British philatelists have more than made up for their lack of post of
 fice stamps with the issue of ‘first day covers’ for every British Con
 ference since at least 1969.\n\nBrian Callan is a Fellow of the Royal Phil
 atelic Society of London and in 2019 became the 29th signatory of the Roll
  of Distinguished Philatelists in Ireland. He has exhibited philately rela
 ted to Cork\, Irish and British postal stationery\, polar exploration and 
 Zeppelin airships\, being awarded 42 gold medals across thirteen countries
 . Now retired\, he was GlaxoSmithKline Vice President Quality Improvement\
 , North America\, Japan &amp\;amp\; Product Supply. He is a member of Cork
  Methodist Church\, and a local preacher.
ATTACH;FMTTYPE=image/jpeg:https://methodisthistoryireland.org/wp-content/u
 ploads/2022/04/Copy-of-Copy-of-All-my-world-a-parish.png
CATEGORIES:Public Lecture
LOCATION:Thomas Street Methodist Church\, Portadown\, 33 Thomas Street\, Po
 rtadown\, Armagh\, BT62 3NU\, Northern Ireland
X-APPLE-STRUCTURED-LOCATION;VALUE=URI;X-ADDRESS=33 Thomas Street\, Portadow
 n\, Armagh\, BT62 3NU\, Northern Ireland;X-APPLE-RADIUS=100;X-TITLE=Thomas
  Street Methodist Church\, Portadown:geo:0,0
END:VEVENT
END:VCALENDAR