BEGIN:VCALENDAR
VERSION:2.0
PRODID:-//wp-events-plugin.com//7.2.3.1//EN
TZID:Europe/London
X-WR-TIMEZONE:Europe/London
BEGIN:VEVENT
UID:16@methodisthistoryireland.org
DTSTART:20171020T193000Z
DTEND:20171020T210000Z
DTSTAMP:20161114T204731Z
URL:https://methodisthistoryireland.org/events/1442/
SUMMARY:Annual Lecture 2017 - 'Sacred Harmony' in Irish Methodism: An illus
 trated lecture by Prof. Desmond Hunter
DESCRIPTION:[caption id="attachment_1443" align="alignleft" width="300"] De
 tail from the Rev. William Smith's edition of 'Sacred Harmony'\, a tune bo
 ok for Irish Methodist churches\, published Dublin 1810[/caption]\n‘“S
 acred Harmony” in Irish Methodism’: An illustrated lecture.\nProfessor
  Desmond Hunter\nFriday 20 October 2017 at Edgehill 7.30\n The tune book 
 entitled Sacred Harmony\, compiled by William Smith and published in Dubli
 n in 1810\, sheds some light on hymn singing in Irish Methodism in the ear
 ly decades of the nineteenth century. The lecture will explore the signifi
 cance of this publication\, the singing practices evidenced and the surviv
 al of the settings in Methodist hymnals from the second half of the ninete
 enth century. Illustrations will be provided by Musicus Amicos singers dir
 ected by Philip Prosser.\n\nDesmond Hunter\, Emeritus Professor of Music a
 t the Ulster University\, studied at the Royal Academy of Music\, London\,
  the Royal Flemish Conservatoire\, Antwerp\, and NUI\, Cork. A distinguish
 ed organ recitalist\, he has given solo concerts throughout Europe\, the U
 SA and Canada and broadcast many programmes on BBC Radio 3. His publicatio
 ns in musicology and pedagogy include two edited volumes\, book chapters a
 nd a range of journal articles.\n\n&nbsp\;
ATTACH;FMTTYPE=image/jpeg:https://methodisthistoryireland.org/wp-content/u
 ploads/2016/11/Picture1.png
CATEGORIES:Public Lecture
LOCATION:Edgehill College\, 9 Lennoxvale\, Belfast\, BT9 5BY\, United Kingd
 om
GEO:54.5777783;-5.937183799999957
X-APPLE-STRUCTURED-LOCATION;VALUE=URI;X-ADDRESS=9 Lennoxvale\, Belfast\, BT
 9 5BY\, United Kingdom;X-APPLE-RADIUS=100;X-TITLE=Edgehill College:geo:54.
 5777783,-5.937183799999957
END:VEVENT
END:VCALENDAR